BEGIN:VCALENDAR
VERSION:2.0
PRODID:-//mbrn.org - ECPv5.8.1//NONSGML v1.0//EN
CALSCALE:GREGORIAN
METHOD:PUBLISH
X-WR-CALNAME:mbrn.org
X-ORIGINAL-URL:https://mbrn.org
X-WR-CALDESC:Events for mbrn.org
BEGIN:VTIMEZONE
TZID:UTC
BEGIN:STANDARD
TZOFFSETFROM:+0000
TZOFFSETTO:+0000
TZNAME:UTC
DTSTART:20070101T000000
END:STANDARD
END:VTIMEZONE
BEGIN:VEVENT
DTSTART;VALUE=DATE:20150916
DTEND;VALUE=DATE:20150917
DTSTAMP:20260426T015835
CREATED:20210804T200321Z
LAST-MODIFIED:20210804T200321Z
UID:2239-1442361600-1442447999@mbrn.org
SUMMARY:Poverty and British Muslims: Identifying Problems and Proposing Solutions
DESCRIPTION:MBRN event with the Oxford Centre for Islamic Studies\n  \nIntroduction\n  \nThe Muslims in Britain Research Network\, together with the Oxford Centre for Islamic Studies\, held a joint event in Oxford on Wednesday 16th\, September. The thematic focus of the day was ‘Poverty and British Muslims’\, and featured a keynote presentation by Professor Anthony Heath\, academic responses\, and a practitioner panel. The event also included the MBRN AGM\, a networking session\, and a tour of the OCIS new building. The MBRN Committee were delighted with the event\, which had 60 attendees\, and very grateful to OCIS and in particular\, Dr Asma Mustafa\, for hosting. \nPost-Event Resources \nA blogpost about Professor Heath’s presentation at the MBRN/OCIS Poverty & British Muslims conference in Oxford can be accessed here (website of the Centre for Social Investigation\, Nuffield College\, University of Oxford). \nAn excerpt: \nWe came up with three theories. The first is transitory factors\, which is to say that Muslim groups are more recent arrivals to the UK and as such may have lower levels of education (or foreign qualifications that aren’t recognised)\, and are less likely to be proficient in English – these factors directly influence labour market outcomes. A second explanation might be intrinsic factors to the religion\, for example\, particular family values may mean lower rates of women going to work and larger family sizes. The third explanatory theory is prejudice and discrimination. \nA more in-depth article about Professor Heath’s research\, co-authored by Prof Li (University of Manchester)\, can be found here (‘Review of the relationship between religion and poverty – an analysis for the Joseph Rowntree Foundation’). \nProfessor Heath’s slides for his MBRN/OCIS presentation are available here.
URL:https://mbrn.org/event/poverty-and-british-muslims-identifying-problems-and-proposing-solutions/
ATTACH;FMTTYPE=image/png:https://mbrn.org/wp-content/uploads/2021/08/CapturePoverty-and-British-Muslims-Identifying-Problems-and-Proposing-Solutions.png
END:VEVENT
BEGIN:VEVENT
DTSTART;VALUE=DATE:20150413
DTEND;VALUE=DATE:20150416
DTSTAMP:20260426T015835
CREATED:20210805T160628Z
LAST-MODIFIED:20210805T160835Z
UID:2243-1428883200-1429142399@mbrn.org
SUMMARY:MBRN panel at the 2015 British Association of Islamic Studies conference
DESCRIPTION:MBRN panel at the 2015 British Association of Islamic Studies conference\, University of London\n  \nBRAIS 2015\nTHE SECOND ANNUAL CONFERENCE\nOF THE BRITISH ASSOCIATION FOR ISLAMIC STUDIES\nLondon\, 13–15 April 2015 \nSenate House\, University of London\nIn Collaboration with the Institute of Commonwealth Studies and Human Rights Consortium\, School of Advanced Study\, University of London
URL:https://mbrn.org/event/mbrn-panel-at-the-2015-british-association-of-islamic-studies-conference/
ATTACH;FMTTYPE=image/jpeg:https://mbrn.org/wp-content/uploads/2021/08/BRAIS.jpg
END:VEVENT
BEGIN:VEVENT
DTSTART;VALUE=DATE:20150401
DTEND;VALUE=DATE:20150402
DTSTAMP:20260426T015835
CREATED:20210805T172931Z
LAST-MODIFIED:20210805T172931Z
UID:2247-1427846400-1427932799@mbrn.org
SUMMARY:Muslim Leadership in Britain
DESCRIPTION:MBRN conference with UCLan\, ‘Muslim Leadershi p in Britain’
URL:https://mbrn.org/event/muslim-leadership-in-britain/
ATTACH;FMTTYPE=image/jpeg:https://mbrn.org/wp-content/uploads/2021/08/Muslim-Leadership-in-Britain.jpg
END:VEVENT
BEGIN:VEVENT
DTSTART;VALUE=DATE:20140910
DTEND;VALUE=DATE:20140911
DTSTAMP:20260426T015835
CREATED:20210805T173749Z
LAST-MODIFIED:20210805T174519Z
UID:2253-1410307200-1410393599@mbrn.org
SUMMARY:MBRN conference INSIDE OUT: Reflexivity and Methodology in Research with British Muslims
DESCRIPTION:MBRN conference with Cardiff University Islam-UK Centre\, ‘INSIDE OUT: Reflexivity and Methodology in Research with British Muslims’\n  \nThe latest MBRN event took place on 10th September 2014 at Cardiff University. It combined a conference exploring the themes of methodology and reflexivity\, a roundtable research update and networking lunch\, and keynote speech from Professor Ron Geaves\, former Chair of MBRN. Many thanks go to Abdul-Azim Ahmed and Riyaz Timol of the Islam-UK Centre at Cardiff University\, who organised the day. \nThe conference element comprised three panels over the course of the day: “Reflexivity in the Field”\, “Belonging\, Believing\, Boundaries” and “Methodological Innovation and Reflexivity”. During the twelve presentations and subsequent panel Q&A\, the audience was able to hear about a broad range of issues\, problems\, strategies and proposals relating to empirical research with British Muslims. Professor Sophie Gilliat-Ray\, Chair of MBRN\, praised the quality and sophistication of the accounts\, and also noted how far the themes of debate within this discipline have developed since the early days of MBRN’s inception. \nThe standard MBRN research update took place during lunchtime\, when the 40 audience members shared their research themes\, progress and future plans to the rest of the group\, before breaking for the networking lunch. Finally\, Professor Ron Geaves\, formerly of Liverpool Hope University but now based in Wales\, gave a keynote speech on the theoretical problems of the insider/outsider dichotomy\, bringing the day to a fitting end.
URL:https://mbrn.org/event/mbrn-conference-with-cardiff-university-islam-uk-centre-inside-out-reflexivity-and-methodology-in-research-with-british-muslims/
ATTACH;FMTTYPE=image/png:https://mbrn.org/wp-content/uploads/2021/08/MBRN-conference-with-Cardiff-University-Islam-UK-Centre-‘INSIDE-OUT-Reflexivity-and-Methodology-in-Research-with-British-Muslims.png
END:VEVENT
BEGIN:VEVENT
DTSTART;VALUE=DATE:20140410
DTEND;VALUE=DATE:20140412
DTSTAMP:20260426T015835
CREATED:20210805T175710Z
LAST-MODIFIED:20210805T180055Z
UID:2264-1397088000-1397260799@mbrn.org
SUMMARY:Showcasing Islamic Studies in the UK\, University of Edinburgh
DESCRIPTION:Three MBRN panels at the inaugural British Association of Islamic Studies conference ‘Showcasing Islamic Studies in the UK’\, University of Edinburgh
URL:https://mbrn.org/event/showcasing-islamic-studies-in-the-uk-university-of-edinburgh/
ATTACH;FMTTYPE=image/jpeg:https://mbrn.org/wp-content/uploads/2021/08/●Three-MBRN-panels-at-the-inaugural-British-Association-of-Islamic-Studies-conference-‘Showcasing-Islamic-Studies-in-the-UK-University-of-Edinburgh-10-11-April-2014.jpg
END:VEVENT
BEGIN:VEVENT
DTSTART;VALUE=DATE:20130918
DTEND;VALUE=DATE:20130919
DTSTAMP:20260426T015835
CREATED:20210805T180821Z
LAST-MODIFIED:20210805T181528Z
UID:2267-1379462400-1379548799@mbrn.org
SUMMARY:MBRN meeting\, Cambridge Muslim College
DESCRIPTION:MBRN meeting\, Cambridge Muslim College
URL:https://mbrn.org/event/mbrn-meeting-cambridge-muslim-college/
ATTACH;FMTTYPE=image/jpeg:https://mbrn.org/wp-content/uploads/2021/08/MBRN-meeting-Cambridge-Muslim-College-18-September-2013.jpg
END:VEVENT
BEGIN:VEVENT
DTSTART;VALUE=DATE:20130429
DTEND;VALUE=DATE:20130430
DTSTAMP:20260426T015835
CREATED:20210805T182232Z
LAST-MODIFIED:20210805T183529Z
UID:2270-1367193600-1367279999@mbrn.org
SUMMARY:MBRN meeting\, Cardiff University Islam-UK Centre
DESCRIPTION:MBRN meeting\, Cardiff University Islam-UK Centre
URL:https://mbrn.org/event/mbrn-meeting-cardiff-university-islam-uk-centre/
ATTACH;FMTTYPE=image/png:https://mbrn.org/wp-content/uploads/2021/08/MBRN-meeting-Cardiff-University-Islam-UK-Centre-29-April-2013.png
END:VEVENT
BEGIN:VEVENT
DTSTART;VALUE=DATE:20120915
DTEND;VALUE=DATE:20120916
DTSTAMP:20260426T015835
CREATED:20210806T045719Z
LAST-MODIFIED:20210806T045719Z
UID:2276-1347667200-1347753599@mbrn.org
SUMMARY:Framing Muslims - Reframing the Study of Muslim Diasporas in Britain
DESCRIPTION:Conference\, ‘Reframing the study of Muslim diasporas in Britain’\, in collaboration with the Framing Muslims project and SOAS Centre for Migration and Diaspora Studies\, SOAS
URL:https://mbrn.org/event/framing-muslims-reframing-the-study-of-muslim-diasporas-in-britain/
ATTACH;FMTTYPE=image/png:https://mbrn.org/wp-content/uploads/2021/08/Framing-Muslims-Reframing-the-Study-of-Muslim-Diasporas-in-Britain.png
END:VEVENT
BEGIN:VEVENT
DTSTART;VALUE=DATE:20120420
DTEND;VALUE=DATE:20120421
DTSTAMP:20260426T015835
CREATED:20210806T051552Z
LAST-MODIFIED:20210806T051552Z
UID:2279-1334880000-1334966399@mbrn.org
SUMMARY:MBRN meeting\, University of Edinburgh
DESCRIPTION:MBRN meeting\, University of Edinburgh
URL:https://mbrn.org/event/mbrn-meeting-university-of-edinburgh/
ATTACH;FMTTYPE=image/jpeg:https://mbrn.org/wp-content/uploads/2021/08/University-of-Edinburgh.jpg
END:VEVENT
BEGIN:VEVENT
DTSTART;VALUE=DATE:20120110
DTEND;VALUE=DATE:20120111
DTSTAMP:20260426T015835
CREATED:20210806T165110Z
LAST-MODIFIED:20210806T165110Z
UID:2282-1326153600-1326239999@mbrn.org
SUMMARY:Joint event with the Islamic Studies Network\, University of Leeds
DESCRIPTION:Joint event with the Islamic Studies Network\, University of Leeds
URL:https://mbrn.org/event/joint-event-with-the-islamic-studies-network-university-of-leeds/
ATTACH;FMTTYPE=image/png:https://mbrn.org/wp-content/uploads/2021/08/Islamic-Studies-Network.png
END:VEVENT
BEGIN:VEVENT
DTSTART;VALUE=DATE:20110707
DTEND;VALUE=DATE:20110708
DTSTAMP:20260426T015835
CREATED:20210806T175847Z
LAST-MODIFIED:20210806T175847Z
UID:2285-1309996800-1310083199@mbrn.org
SUMMARY:Multiculturalism and Muslim Leaderships in the UK: New Labour and After
DESCRIPTION:The conference\, ‘Multiculturalism and Muslim Leaderships in the UK: New Labour and After’\, University of Bristol
URL:https://mbrn.org/event/multiculturalism-and-muslim-leaderships-in-the-uk-new-labour-and-after/
ATTACH;FMTTYPE=image/jpeg:https://mbrn.org/wp-content/uploads/2021/08/University-of-Bristo.jpg
END:VEVENT
BEGIN:VEVENT
DTSTART;VALUE=DATE:20110210
DTEND;VALUE=DATE:20110211
DTSTAMP:20260426T015835
CREATED:20210806T181015Z
LAST-MODIFIED:20210806T181015Z
UID:2288-1297296000-1297382399@mbrn.org
SUMMARY:MBRN meeting\, University of Liverpool
DESCRIPTION:MBRN meeting\, University of Liverpool: 10 February 2011
URL:https://mbrn.org/event/mbrn-meeting-university-of-liverpool/
ATTACH;FMTTYPE=image/jpeg:https://mbrn.org/wp-content/uploads/2021/08/University-1.jpeg
END:VEVENT
BEGIN:VEVENT
DTSTART;VALUE=DATE:20100123
DTEND;VALUE=DATE:20100124
DTSTAMP:20260426T015835
CREATED:20210806T191325Z
LAST-MODIFIED:20210806T191816Z
UID:2291-1264204800-1264291199@mbrn.org
SUMMARY:Studying contemporary Islam in the UK
DESCRIPTION:Conference\, ‘Studying contemporary Islam in the UK’\, in collaboration with the BSA Sociology of Religion study group\, Birkbeck College
URL:https://mbrn.org/event/studying-contemporary-islam-in-the-uk/
ATTACH;FMTTYPE=image/jpeg:https://mbrn.org/wp-content/uploads/2021/08/BSA.jpg
END:VEVENT
BEGIN:VEVENT
DTSTART;VALUE=DATE:20090909
DTEND;VALUE=DATE:20090910
DTSTAMP:20260426T015835
CREATED:20210807T042139Z
LAST-MODIFIED:20210807T042139Z
UID:2305-1252454400-1252540799@mbrn.org
SUMMARY:Two MBRN panels at the British Association for the Study of Religions annual conference
DESCRIPTION:Two MBRN panels at the British Association for the Study of Religions annual conference\, Bangor University
URL:https://mbrn.org/event/two-mbrn-panels-at-the-british-association-for-the-study-of-religions-annual-conference/
ATTACH;FMTTYPE=image/jpeg:https://mbrn.org/wp-content/uploads/2021/08/BASR.jpg
END:VEVENT
BEGIN:VEVENT
DTSTART;VALUE=DATE:20090402
DTEND;VALUE=DATE:20090403
DTSTAMP:20260426T015835
CREATED:20210807T035318Z
LAST-MODIFIED:20210807T040840Z
UID:2298-1238630400-1238716799@mbrn.org
SUMMARY:MBRN meeting\, Oxford Centre for Islamic Studies
DESCRIPTION:MBRN meeting\, Oxford Centre for Islamic Studies
URL:https://mbrn.org/event/mbrn-meeting-oxford-centre-for-islamic-studies/
ATTACH;FMTTYPE=image/png:https://mbrn.org/wp-content/uploads/2021/08/oxford.png
END:VEVENT
BEGIN:VEVENT
DTSTART;VALUE=DATE:20090108
DTEND;VALUE=DATE:20090109
DTSTAMP:20260426T015835
CREATED:20210807T041224Z
LAST-MODIFIED:20210807T041233Z
UID:2301-1231372800-1231459199@mbrn.org
SUMMARY:MBRN meeting\, Cardiff University Islam-UK Centre
DESCRIPTION:MBRN meeting\, Cardiff University Islam-UK Centre
URL:https://mbrn.org/event/mbrn-meeting-cardiff-university-islam-uk-centre-2/
ATTACH;FMTTYPE=image/png:https://mbrn.org/wp-content/uploads/2021/08/MBRN-meeting-Cardiff-University-Islam-UK-Centre-29-April-2013.png
END:VEVENT
BEGIN:VEVENT
DTSTART;VALUE=DATE:20070412
DTEND;VALUE=DATE:20070413
DTSTAMP:20260426T015835
CREATED:20210807T041512Z
LAST-MODIFIED:20210807T041512Z
UID:2303-1176336000-1176422399@mbrn.org
SUMMARY:MBRN meeting\, Cardiff University Islam-UK Centre
DESCRIPTION:MBRN meeting\, Cardiff University Islam-UK Centre
URL:https://mbrn.org/event/mbrn-meeting-cardiff-university-islam-uk-centre-3/
ATTACH;FMTTYPE=image/png:https://mbrn.org/wp-content/uploads/2021/08/MBRN-meeting-Cardiff-University-Islam-UK-Centre-29-April-2013.png
END:VEVENT
END:VCALENDAR